BEGIN:VCALENDAR
VERSION:2.0
PRODID:-//Platt College San Diego - ECPv6.6.4.2//NONSGML v1.0//EN
CALSCALE:GREGORIAN
METHOD:PUBLISH
X-ORIGINAL-URL:https://platt.edu
X-WR-CALDESC:Events for Platt College San Diego
REFRESH-INTERVAL;VALUE=DURATION:PT1H
X-Robots-Tag:noindex
X-PUBLISHED-TTL:PT1H
BEGIN:VTIMEZONE
TZID:America/Los_Angeles
BEGIN:DAYLIGHT
TZOFFSETFROM:-0800
TZOFFSETTO:-0700
TZNAME:PDT
DTSTART:20220313T100000
END:DAYLIGHT
BEGIN:STANDARD
TZOFFSETFROM:-0700
TZOFFSETTO:-0800
TZNAME:PST
DTSTART:20221106T090000
END:STANDARD
END:VTIMEZONE
BEGIN:VEVENT
DTSTART;VALUE=DATE:20220905
DTEND;VALUE=DATE:20220906
DTSTAMP:20260425T062557
CREATED:20210201T224610Z
LAST-MODIFIED:20210201T224610Z
UID:18535-1662336000-1662422399@platt.edu
SUMMARY:LABOR DAY - No Courses Scheduled
DESCRIPTION:
URL:https://platt.edu/event/labor-day-no-courses-scheduled-2/
LOCATION:CA
END:VEVENT
END:VCALENDAR