BEGIN:VCALENDAR
VERSION:2.0
PRODID:-//Platt College San Diego - ECPv6.6.4.2//NONSGML v1.0//EN
CALSCALE:GREGORIAN
METHOD:PUBLISH
X-ORIGINAL-URL:https://platt.edu
X-WR-CALDESC:Events for Platt College San Diego
REFRESH-INTERVAL;VALUE=DURATION:PT1H
X-Robots-Tag:noindex
X-PUBLISHED-TTL:PT1H
BEGIN:VTIMEZONE
TZID:America/Los_Angeles
BEGIN:DAYLIGHT
TZOFFSETFROM:-0800
TZOFFSETTO:-0700
TZNAME:PDT
DTSTART:20220313T100000
END:DAYLIGHT
BEGIN:STANDARD
TZOFFSETFROM:-0700
TZOFFSETTO:-0800
TZNAME:PST
DTSTART:20221106T090000
END:STANDARD
END:VTIMEZONE
BEGIN:VEVENT
DTSTART;VALUE=DATE:20220619
DTEND;VALUE=DATE:20220620
DTSTAMP:20260425T093926
CREATED:20220610T183124Z
LAST-MODIFIED:20220610T185017Z
UID:18780-1655596800-1655683199@platt.edu
SUMMARY:JUNETEENTH
DESCRIPTION:
URL:https://platt.edu/event/juneteenth/
LOCATION:CA
END:VEVENT
BEGIN:VEVENT
DTSTART;VALUE=DATE:20220620
DTEND;VALUE=DATE:20220621
DTSTAMP:20260425T093926
CREATED:20220610T183240Z
LAST-MODIFIED:20220610T185053Z
UID:18781-1655683200-1655769599@platt.edu
SUMMARY:JUNETEENTH (Observance) - No Courses Scheduled
DESCRIPTION:
URL:https://platt.edu/event/juneteenth-observance-no-courses-scheduled/
LOCATION:CA
END:VEVENT
BEGIN:VEVENT
DTSTART;TZID=America/Los_Angeles:20220628T080000
DTEND;TZID=America/Los_Angeles:20220628T120000
DTSTAMP:20260425T093926
CREATED:20210203T225448Z
LAST-MODIFIED:20220610T183614Z
UID:18593-1656403200-1656417600@platt.edu
SUMMARY:COURSES END
DESCRIPTION:
URL:https://platt.edu/event/courses-end-15/
LOCATION:Platt College San Diego\, 6250 El Cajon Blvd\, San Diego\, CA\, 92115\, United States
ORGANIZER;CN="Platt College San Diego":MAILTO:sgallup@platt.edu
END:VEVENT
BEGIN:VEVENT
DTSTART;TZID=America/Los_Angeles:20220628T123000
DTEND;TZID=America/Los_Angeles:20220628T133000
DTSTAMP:20260425T093926
CREATED:20210203T222706Z
LAST-MODIFIED:20220610T183459Z
UID:18557-1656419400-1656423000@platt.edu
SUMMARY:ORIENTATION FOR NEW STUDENTS
DESCRIPTION:Check-in is in the Admissions Office.
URL:https://platt.edu/event/orientation-for-new-students-13/
LOCATION:Platt College San Diego\, 6250 El Cajon Blvd\, San Diego\, CA\, 92115\, United States
ORGANIZER;CN="Platt College San Diego":MAILTO:sgallup@platt.edu
END:VEVENT
BEGIN:VEVENT
DTSTART;TZID=America/Los_Angeles:20220629T080000
DTEND;TZID=America/Los_Angeles:20220629T120000
DTSTAMP:20260425T093926
CREATED:20210203T224324Z
LAST-MODIFIED:20220610T183534Z
UID:18575-1656489600-1656504000@platt.edu
SUMMARY:COURSES BEGIN
DESCRIPTION:
URL:https://platt.edu/event/courses-begin-14/
LOCATION:Platt College San Diego\, 6250 El Cajon Blvd\, San Diego\, CA\, 92115\, United States
ORGANIZER;CN="Platt College San Diego":MAILTO:sgallup@platt.edu
END:VEVENT
END:VCALENDAR