BEGIN:VCALENDAR
VERSION:2.0
PRODID:-//Platt College San Diego - ECPv6.6.4.2//NONSGML v1.0//EN
CALSCALE:GREGORIAN
METHOD:PUBLISH
X-WR-CALNAME:Platt College San Diego
X-ORIGINAL-URL:https://platt.edu
X-WR-CALDESC:Events for Platt College San Diego
REFRESH-INTERVAL;VALUE=DURATION:PT1H
X-Robots-Tag:noindex
X-PUBLISHED-TTL:PT1H
BEGIN:VTIMEZONE
TZID:America/Los_Angeles
BEGIN:DAYLIGHT
TZOFFSETFROM:-0800
TZOFFSETTO:-0700
TZNAME:PDT
DTSTART:20220313T100000
END:DAYLIGHT
BEGIN:STANDARD
TZOFFSETFROM:-0700
TZOFFSETTO:-0800
TZNAME:PST
DTSTART:20221106T090000
END:STANDARD
BEGIN:DAYLIGHT
TZOFFSETFROM:-0800
TZOFFSETTO:-0700
TZNAME:PDT
DTSTART:20230312T100000
END:DAYLIGHT
BEGIN:STANDARD
TZOFFSETFROM:-0700
TZOFFSETTO:-0800
TZNAME:PST
DTSTART:20231105T090000
END:STANDARD
END:VTIMEZONE
BEGIN:VEVENT
DTSTART;VALUE=DATE:20221224
DTEND;VALUE=DATE:20230102
DTSTAMP:20260421T031431
CREATED:20210201T224857Z
LAST-MODIFIED:20221010T182001Z
UID:18538-1671840000-1672617599@platt.edu
SUMMARY:CHRISTMAS | NEW YEAR'S BREAK - No Courses Scheduled
DESCRIPTION:
URL:https://platt.edu/event/christmas-new-years-break-no-courses-scheduled-2/
LOCATION:Platt College San Diego\, 6250 El Cajon Blvd\, San Diego\, CA\, 92115\, United States
ORGANIZER;CN="Platt College San Diego":MAILTO:sgallup@platt.edu
END:VEVENT
BEGIN:VEVENT
DTSTART;TZID=America/Los_Angeles:20230109T120000
DTEND;TZID=America/Los_Angeles:20230109T130000
DTSTAMP:20260421T031431
CREATED:20221201T222603Z
LAST-MODIFIED:20221201T223540Z
UID:18856-1673265600-1673269200@platt.edu
SUMMARY:ORIENTATION FOR NEW STUDENTS
DESCRIPTION:Check-in is in the Admissions Office.
URL:https://platt.edu/event/orientation-for-new-students-17/
LOCATION:CA
ORGANIZER;CN="Platt College San Diego":MAILTO:sgallup@platt.edu
END:VEVENT
BEGIN:VEVENT
DTSTART;TZID=America/Los_Angeles:20230110T080000
DTEND;TZID=America/Los_Angeles:20230110T120000
DTSTAMP:20260421T031431
CREATED:20221201T221816Z
LAST-MODIFIED:20221201T221930Z
UID:18846-1673337600-1673352000@platt.edu
SUMMARY:COURSES BEGIN
DESCRIPTION:
URL:https://platt.edu/event/courses-begin-19/
LOCATION:CA
ORGANIZER;CN="Platt College San Diego":MAILTO:sgallup@platt.edu
END:VEVENT
BEGIN:VEVENT
DTSTART;TZID=America/Los_Angeles:20230110T130000
DTEND;TZID=America/Los_Angeles:20230110T170000
DTSTAMP:20260421T031431
CREATED:20221228T184228Z
LAST-MODIFIED:20221228T184228Z
UID:18879-1673355600-1673370000@platt.edu
SUMMARY:Video Production Bootcamp | Shoot | Light | Sound | Edit
DESCRIPTION:The Video Production Bootcamp course will consist of five\, four-hour sessions in which you will learn the basic techniques to shoot and edit videos using lighting and shooting techniques utilized in the video production industry. We will shoot in class and learn how to edit footage in Adobe Premiere software and get the best export settings for all Social Media Platforms such as Youtube\, Instagram and business websites. \nThis class will be hands on\, using already shot footage and footage we will be shooting in class. Together we will explore the different techniques that create dynamically edited videos. \nWho should attend: \nAmateur videographers.\nSocial Media content developers.\nIndependent Filmmakers.\nYoutube personalities.
URL:https://platt.edu/event/video-production-bootcamp-shoot-light-sound-edit/
LOCATION:CA
ORGANIZER;CN="Platt College San Diego":MAILTO:sgallup@platt.edu
END:VEVENT
BEGIN:VEVENT
DTSTART;VALUE=DATE:20230116
DTEND;VALUE=DATE:20230117
DTSTAMP:20260421T031431
CREATED:20221201T223941Z
LAST-MODIFIED:20221201T223941Z
UID:18866-1673827200-1673913599@platt.edu
SUMMARY:MARTIN LUTHER KING JR. DAY – No Courses Scheduled
DESCRIPTION:
URL:https://platt.edu/event/martin-luther-king-jr-day-no-courses-scheduled-2/
LOCATION:CA
END:VEVENT
BEGIN:VEVENT
DTSTART;TZID=America/Los_Angeles:20230117T130000
DTEND;TZID=America/Los_Angeles:20230117T170000
DTSTAMP:20260421T031431
CREATED:20221228T184515Z
LAST-MODIFIED:20221228T184515Z
UID:18882-1673960400-1673974800@platt.edu
SUMMARY:Video Production Bootcamp | Shoot | Light | Sound | Edit
DESCRIPTION:The Video Production Bootcamp course will consist of five\, four-hour sessions in which you will learn the basic techniques to shoot and edit videos using lighting and shooting techniques utilized in the video production industry. We will shoot in class and learn how to edit footage in Adobe Premiere software and get the best export settings for all Social Media Platforms such as Youtube\, Instagram and business websites. \nThis class will be hands on\, using already shot footage and footage we will be shooting in class. Together we will explore the different techniques that create dynamically edited videos. \nWho should attend: \nAmateur videographers.\nSocial Media content developers.\nIndependent Filmmakers.\nYoutube personalities.
URL:https://platt.edu/event/video-production-bootcamp-shoot-light-sound-edit-2/
LOCATION:CA
ORGANIZER;CN="Platt College San Diego":MAILTO:sgallup@platt.edu
END:VEVENT
BEGIN:VEVENT
DTSTART;TZID=America/Los_Angeles:20230124T130000
DTEND;TZID=America/Los_Angeles:20230124T170000
DTSTAMP:20260421T031431
CREATED:20221228T184644Z
LAST-MODIFIED:20221228T184654Z
UID:18883-1674565200-1674579600@platt.edu
SUMMARY:Video Production Bootcamp | Shoot | Light | Sound | Edit
DESCRIPTION:The Video Production Bootcamp course will consist of five\, four-hour sessions in which you will learn the basic techniques to shoot and edit videos using lighting and shooting techniques utilized in the video production industry. We will shoot in class and learn how to edit footage in Adobe Premiere software and get the best export settings for all Social Media Platforms such as Youtube\, Instagram and business websites. \nThis class will be hands on\, using already shot footage and footage we will be shooting in class. Together we will explore the different techniques that create dynamically edited videos. \nWho should attend: \nAmateur videographers.\nSocial Media content developers.\nIndependent Filmmakers.\nYoutube personalities.
URL:https://platt.edu/event/video-production-bootcamp-shoot-light-sound-edit-3/
LOCATION:Platt College San Diego\, 6250 El Cajon Blvd\, San Diego\, CA\, 92115\, United States
ORGANIZER;CN="Platt College San Diego":MAILTO:sgallup@platt.edu
END:VEVENT
BEGIN:VEVENT
DTSTART;TZID=America/Los_Angeles:20230131T130000
DTEND;TZID=America/Los_Angeles:20230131T170000
DTSTAMP:20260421T031431
CREATED:20221228T184745Z
LAST-MODIFIED:20221228T184745Z
UID:18884-1675170000-1675184400@platt.edu
SUMMARY:Video Production Bootcamp | Shoot | Light | Sound | Edit
DESCRIPTION:The Video Production Bootcamp course will consist of five\, four-hour sessions in which you will learn the basic techniques to shoot and edit videos using lighting and shooting techniques utilized in the video production industry. We will shoot in class and learn how to edit footage in Adobe Premiere software and get the best export settings for all Social Media Platforms such as Youtube\, Instagram and business websites. \nThis class will be hands on\, using already shot footage and footage we will be shooting in class. Together we will explore the different techniques that create dynamically edited videos. \nWho should attend: \nAmateur videographers.\nSocial Media content developers.\nIndependent Filmmakers.\nYoutube personalities.
URL:https://platt.edu/event/video-production-bootcamp-shoot-light-sound-edit-4/
LOCATION:Platt College San Diego\, 6250 El Cajon Blvd\, San Diego\, CA\, 92115\, United States
ORGANIZER;CN="Platt College San Diego":MAILTO:sgallup@platt.edu
END:VEVENT
END:VCALENDAR